BEGIN:VCALENDAR
PRODID:-//Det Danske Spejderkorps//NONSGML Gruppeweb//EN
VERSION:2.0
CALSCALE:GREGORIAN
X-PUBLISHED-TTL:PT1H
X-WR-CALNAME:Klan
METHOD:PUBLISH
BEGIN:VEVENT
UID:gruppeweb.dk:7707:event:10
DTSTAMP:20260419T143814Z
LAST-MODIFIED:20260214T224927Z
SUMMARY:Grøndalsmarch
DESCRIPTION:Hej \n\nSå er det igen til til grøndalsmarch\n\nkom og vær 
 med til en hyggelig tur i den fynske natur.\n\nGrøndalsmarchen er blevet 
 en institution blandt marchfolk og spejdere.\nForår og Grøndalsmarch er 
 to ting\, som udgør en helhed.\nGiv dig selv en oplevelse i den skønne m
 idtfynske natur.\n\n*Distancer:*\n5\, 10\, 20\, 30 & 50 km\n\n*Priser:*\nS
 tartgebyr 35 kr.\nI startgebyret er inkluderet: Mærker og diplomer.\n\n
URL:https://juelsmindegruppe.dk/begivenhed/groendalsmarch
DTSTART:20250529T080000Z
DTEND:20250529T123000Z
LOCATION:Grøndalshytten\, Kappendrupvej 2\, 5550 Langeskov
END:VEVENT
BEGIN:VEVENT
UID:gruppeweb.dk:7707:event:12
DTSTAMP:20260419T143814Z
LAST-MODIFIED:20260214T224924Z
SUMMARY:Hyttedag ved teepe
DESCRIPTION:Hyttedag ved Teepe \n\nvi skal have ordnet hytten samt lidt ud
 endørs\n\nvi plejer at have en rigtig god og sjov dag\n\nAl hjælp er vel
 kommen og hvis man kun kan hjælpe i 1 time så gør man det.\n\n
URL:https://juelsmindegruppe.dk/begivenhed/hyttedag-ved-teepe
DTSTART:20250524T080000Z
DTEND:20250524T160000Z
LOCATION:Juelsminde Gruppe\, Ringvejen 7\, 7130 Juelsminde
END:VEVENT
BEGIN:VEVENT
UID:gruppeweb.dk:7707:event:22
DTSTAMP:20260419T143814Z
LAST-MODIFIED:20250820T044107Z
SUMMARY:Spejdermøde
DESCRIPTION:Mikro-minier: Forløbsmærke\n\nJunior:\n\nTrop:\n\nKlan:\n\n
URL:https://juelsmindegruppe.dk/begivenhed/spejdermoede
DTSTART:20251008T153000Z
DTEND:20251008T170000Z
LOCATION:Juelsminde Gruppe\, Ringvejen 7\, 7130 Juelsminde
END:VEVENT
BEGIN:VEVENT
UID:gruppeweb.dk:7707:event:23
DTSTAMP:20260419T143814Z
LAST-MODIFIED:20250820T044107Z
SUMMARY:Spejdermøde
DESCRIPTION:Mikro-minier: Forløbsmærke\n\nJunior:\n\nTrop:\n\nKlan:\n\n
URL:https://juelsmindegruppe.dk/begivenhed/spejdermoede-0
DTSTART:20251001T153000Z
DTEND:20251001T170000Z
LOCATION:Juelsminde Gruppe\, Ringvejen 7\, 7130 Juelsminde
END:VEVENT
BEGIN:VEVENT
UID:gruppeweb.dk:7707:event:32
DTSTAMP:20260419T143814Z
LAST-MODIFIED:20251022T172128Z
SUMMARY:Juletur
DESCRIPTION:Hej året juletur kommer igen til at foregå i Spejderhytten K
 ulla ved  \nEgebjerg\n\nvi håber at så mange som muligt har lyst til at 
 deltage.\n\n \n\n
URL:https://juelsmindegruppe.dk/begivenhed/juletur
DTSTART:20251101T100000Z
DTEND:20251102T100000Z
LOCATION:Spejderhytten Kulla\, Skovvej 44\, 8700 Horsens
END:VEVENT
BEGIN:VEVENT
UID:gruppeweb.dk:7707:event:33
DTSTAMP:20260419T143814Z
LAST-MODIFIED:20250820T041446Z
SUMMARY:Spejdermøde
DESCRIPTION:Fælles: Vi uddeler års stjerner og går efterfølgende ud i g
 rupperne\n\nMikro-Minier: Planlægger løb for Junior\, Trop og Klan\n\nJu
 nior:\n\nTrop:\n\nKlan:\n\n
URL:https://juelsmindegruppe.dk/begivenhed/spejdermoede-13
DTSTART:20250827T153000Z
DTEND:20250827T170000Z
LOCATION:Juelsminde Gruppe\, Ringvejen 7\, 7130 Juelsminde
END:VEVENT
BEGIN:VEVENT
UID:gruppeweb.dk:7707:event:34
DTSTAMP:20260419T143814Z
LAST-MODIFIED:20250820T041448Z
SUMMARY:Spejdermøde
DESCRIPTION:Fælles:\n\nOpstart af spejder for efteråret.\n\nvi laver opry
 kning og hygger med bål og snobrød.\n\nvi hører lidt om spejdernes somm
 erferier\, ideer til aktiviteter\n\n
URL:https://juelsmindegruppe.dk/begivenhed/spejdermoede-10
DTSTART:20250820T153000Z
DTEND:20250820T170000Z
LOCATION:Juelsminde Gruppe\, Ringvejen 7\, 7130 Juelsminde
END:VEVENT
BEGIN:VEVENT
UID:gruppeweb.dk:7707:event:36
DTSTAMP:20260419T143814Z
LAST-MODIFIED:20250820T041404Z
SUMMARY:Spejdermøde
DESCRIPTION:Mikro-minier: Vi laver mad over bål\n\nJunior:\n\nTrop:\n\nKla
 n:\n\n
URL:https://juelsmindegruppe.dk/begivenhed/spejdermoede-11
DTSTART:20250910T153000Z
DTEND:20250910T170000Z
LOCATION:Juelsminde Gruppe\, Ringvejen 7\, 7130 Juelsminde
END:VEVENT
BEGIN:VEVENT
UID:gruppeweb.dk:7707:event:37
DTSTAMP:20260419T143814Z
LAST-MODIFIED:20250820T041446Z
SUMMARY:Spejdermøde
DESCRIPTION:Mikro-minier: Laver løb for Junior\, Trop og klan\n\nJunior:\n
 \nTrop:\n\nKlan:\n\n
URL:https://juelsmindegruppe.dk/begivenhed/spejdermoede-12
DTSTART:20250903T153000Z
DTEND:20250903T170000Z
LOCATION:Juelsminde Gruppe\, Ringvejen 7\, 7130 Juelsminde
END:VEVENT
BEGIN:VEVENT
UID:gruppeweb.dk:7707:event:38
DTSTAMP:20260419T143814Z
LAST-MODIFIED:20250820T042446Z
SUMMARY:Spejdermøde
DESCRIPTION: \n\nMikro-Minier: Trangia med æbler \n\nJunior:\n\nTrop:\n\
 nKlan: \n\n
URL:https://juelsmindegruppe.dk/begivenhed/spejdermoede-8
DTSTART:20251029T163000Z
DTEND:20251029T180000Z
LOCATION:Juelsminde Gruppe\, Ringvejen 7\, 7130 Juelsminde
END:VEVENT
BEGIN:VEVENT
UID:gruppeweb.dk:7707:event:39
DTSTAMP:20260419T143814Z
LAST-MODIFIED:20250820T042446Z
SUMMARY:Spejdermøde
DESCRIPTION: \n\nMikro-Minier: Fælles aktivitet med FDF Knuden\n\nJunior:
 \n\nTrop:\n\nKlan: \n\n
URL:https://juelsmindegruppe.dk/begivenhed/spejdermoede-9
DTSTART:20251022T153000Z
DTEND:20251022T170000Z
LOCATION:Juelsminde Gruppe\, Ringvejen 7\, 7130 Juelsminde
END:VEVENT
BEGIN:VEVENT
UID:gruppeweb.dk:7707:event:40
DTSTAMP:20260419T143814Z
LAST-MODIFIED:20250820T043214Z
SUMMARY:Spejdermøde
DESCRIPTION: \n\nMikro-Minier: Snitte og save\n\nJunior:\n\nTrop:\n\nKlan:
  \n\n
URL:https://juelsmindegruppe.dk/begivenhed/spejdermoede-5
DTSTART:20251105T163000Z
DTEND:20251105T180000Z
LOCATION:Juelsminde Gruppe\, Ringvejen 7\, 7130 Juelsminde
END:VEVENT
BEGIN:VEVENT
UID:gruppeweb.dk:7707:event:41
DTSTAMP:20260419T143814Z
LAST-MODIFIED:20250820T042454Z
SUMMARY:Spejdermøde
DESCRIPTION:Fælles: Vi laver batik så husk gerne en hvid bomulds ting.\n\
 nMikro-Minier: "Kram et træ" aktivitet når batik er færdig\n\nJunior:\n
 \nTrop:\n\nKlan: \n\n
URL:https://juelsmindegruppe.dk/begivenhed/spejdermoede-7
DTSTART:20250917T153000Z
DTEND:20250917T170000Z
LOCATION:Juelsminde Gruppe\, Ringvejen 7\, 7130 Juelsminde
END:VEVENT
BEGIN:VEVENT
UID:gruppeweb.dk:7707:event:42
DTSTAMP:20260419T143814Z
LAST-MODIFIED:20250820T043208Z
SUMMARY:Spejdermøde
DESCRIPTION:Mikro-minier: vi holder spildag med brætspil og lign.\n\nJunio
 r:\n\nTrop:\n\nKlan:\n\n
URL:https://juelsmindegruppe.dk/begivenhed/spejdermoede-6
DTSTART:20251126T163000Z
DTEND:20251126T180000Z
LOCATION:Juelsminde Gruppe\, Ringvejen 7\, 7130 Juelsminde
END:VEVENT
BEGIN:VEVENT
UID:gruppeweb.dk:7707:event:43
DTSTAMP:20260419T143814Z
LAST-MODIFIED:20250820T044104Z
SUMMARY:Spejdermøde
DESCRIPTION:Mikro-minier: Forløbsmærke\n\nJunior:\n\nTrop:\n\nKlan:\n\n
URL:https://juelsmindegruppe.dk/begivenhed/spejdermoede-3
DTSTART:20250924T153000Z
DTEND:20250924T170000Z
LOCATION:Juelsminde Gruppe\, Ringvejen 7\, 7130 Juelsminde
END:VEVENT
BEGIN:VEVENT
UID:gruppeweb.dk:7707:event:44
DTSTAMP:20260419T143814Z
LAST-MODIFIED:20250820T044106Z
SUMMARY:Spejdermøde
DESCRIPTION:Mikro-minier: Snitte og save ( hvis det er skyfrit går vi ud 
 og kigger på  \nstjerner )\n\nJunior:\n\nTrop:\n\nKlan:\n\n
URL:https://juelsmindegruppe.dk/begivenhed/spejdermoede-4
DTSTART:20251112T163000Z
DTEND:20251112T180000Z
LOCATION:Juelsminde Gruppe\, Ringvejen 7\, 7130 Juelsminde
END:VEVENT
BEGIN:VEVENT
UID:gruppeweb.dk:7707:event:45
DTSTAMP:20260419T143814Z
LAST-MODIFIED:20250820T044109Z
SUMMARY:Spejdermøde
DESCRIPTION:Mikro-minier: Stjernekigger\n\nJunior:\n\nTrop:\n\nKlan:\n\n
URL:https://juelsmindegruppe.dk/begivenhed/spejdermoede-1
DTSTART:20251119T163000Z
DTEND:20251119T180000Z
LOCATION:Juelsminde Gruppe\, Ringvejen 7\, 7130 Juelsminde
END:VEVENT
BEGIN:VEVENT
UID:gruppeweb.dk:7707:event:46
DTSTAMP:20260419T143814Z
LAST-MODIFIED:20250820T044111Z
SUMMARY:Spejdermøde
DESCRIPTION:Fælles : Juleafslutning med hygge\n\n
URL:https://juelsmindegruppe.dk/begivenhed/spejdermoede-2
DTSTART:20251203T163000Z
DTEND:20251203T180000Z
LOCATION:Juelsminde Gruppe\, Ringvejen 7\, 7130 Juelsminde
END:VEVENT
BEGIN:VEVENT
UID:gruppeweb.dk:7707:event:47
DTSTAMP:20260419T143814Z
LAST-MODIFIED:20250821T032746Z
SUMMARY:Busk gudstjeneste
DESCRIPTION:Der er BUSK gudstjeneste i Juelsminde kirke hvor alle er velkom
 men.\n\nDer kan læses mere her www.buskgudstjeneste.dk\n\n
URL:https://juelsmindegruppe.dk/begivenhed/busk-gudstjeneste
DTSTART:20251026T150000Z
DTEND:20251026T160000Z
LOCATION:Juelsminde kirke
END:VEVENT
BEGIN:VEVENT
UID:gruppeweb.dk:7707:event:51
DTSTAMP:20260419T143814Z
LAST-MODIFIED:20260203T041404Z
SUMMARY:Grupperådsmøde
DESCRIPTION:\n
URL:https://juelsmindegruppe.dk/begivenhed/grupperaadsmoede
DTSTART:20260226T180000Z
DTEND:20260226T200000Z
LOCATION:
END:VEVENT
BEGIN:VEVENT
UID:gruppeweb.dk:7707:event:48
DTSTAMP:20260419T143814Z
LAST-MODIFIED:20260218T200355Z
SUMMARY:Spejdernes Lejr 2026 Junior\,Trop\,Klan
DESCRIPTION:Nu er den store SPEJDERNES LEJR så klar igen.\n\nDet er en af 
 de største oplevelser man kan få som spejder\, hvor ca. 34.000  \nspejde
 re er samlet.\n\nKom og vær en del af denne lejr.\n\nSå sæt kryds i kal
 enderen i uge 30 - 2026.\n\nKAN KUN ANBEFALES.\n\n\nTilmelding er bindende
  og sidste frist er d.18 februar.\n\nEgenbetaling er kun kr. 995\,00 og sk
 al først betales i maj.\n\n
URL:https://juelsmindegruppe.dk/begivenhed/spejdernes-lejr-2026-juniortropk
 lan
DTSTART:20260718T034200Z
DTEND:20260726T034200Z
LOCATION:Juelsminde Gruppe\, Ringvejen 7\, 7130 Juelsminde
END:VEVENT
END:VCALENDAR
